BEGIN:VCALENDAR
VERSION:2.0
PRODID:-//http://XXX//Event
METHOD:PUBLISH
BEGIN:VEVENT
DTSTART;VALUE=DATE:20251021
DTEND;VALUE=DATE:20251025
DESCRIPTION;LANGUAGE=en-us:AUS Biotech
SUMMARY;LANGUAGE=en-us:AUS Biotech
LOCATION:
END:VEVENT
END:VCALENDAR