BEGIN:VCALENDAR
VERSION:2.0
PRODID:-//http://XXX//Event
METHOD:PUBLISH
BEGIN:VEVENT
DTSTART;VALUE=DATE:20220909
DTEND;VALUE=DATE:20220914
DESCRIPTION;LANGUAGE=en-us:ESMO
SUMMARY;LANGUAGE=en-us:ESMO
LOCATION:Paris\, France
END:VEVENT
END:VCALENDAR